BEGIN:VCALENDAR
VERSION:2.0
PRODID:-//wp-events-plugin.com//7.2.3.1//EN
BEGIN:VEVENT
UID:14@delta-assoc.com
DTSTART;TZID=America/New_York:20210204T114500
DTEND;TZID=America/New_York:20210204T154500
DTSTAMP:20210107T152304Z
URL:https://delta-assoc.com/events/black-belt-exam-10/
SUMMARY:- Black Belt Exam
DESCRIPTION:
END:VEVENT
BEGIN:VTIMEZONE
TZID:America/New_York
X-LIC-LOCATION:America/New_York
BEGIN:STANDARD
DTSTART:20201101T010000
TZOFFSETFROM:-0400
TZOFFSETTO:-0500
TZNAME:EST
END:STANDARD
END:VTIMEZONE
END:VCALENDAR