BEGIN:VCALENDAR
VERSION:2.0
PRODID:-//wp-events-plugin.com//7.2.3.1//EN
BEGIN:VEVENT
UID:269@delta-assoc.com
DTSTART;TZID=America/New_York:20231108T123000
DTEND;TZID=America/New_York:20231108T163000
DTSTAMP:20230913T113850Z
URL:https://delta-assoc.com/events/delta-exam-233/
SUMMARY:Delta Exam
DESCRIPTION:
END:VEVENT
BEGIN:VTIMEZONE
TZID:America/New_York
X-LIC-LOCATION:America/New_York
BEGIN:STANDARD
DTSTART:20231105T010000
TZOFFSETFROM:-0400
TZOFFSETTO:-0500
TZNAME:EST
END:STANDARD
END:VTIMEZONE
END:VCALENDAR